BEGIN:VCALENDAR
VERSION:2.0
PRODID:-//DJPJ - ECPv5.3.2.1//NONSGML v1.0//EN
CALSCALE:GREGORIAN
METHOD:PUBLISH
X-WR-CALNAME:DJPJ
X-ORIGINAL-URL:https://www.djpj.nl
X-WR-CALDESC:Events for DJPJ
BEGIN:VTIMEZONE
TZID:UTC
BEGIN:STANDARD
TZOFFSETFROM:+0000
TZOFFSETTO:+0000
TZNAME:UTC
DTSTART:20190101T000000
END:STANDARD
END:VTIMEZONE
BEGIN:VEVENT
DTSTART;TZID=UTC:20191108T220000
DTEND;TZID=UTC:20191109T030000
DTSTAMP:20260420T204135
CREATED:20191030T145548Z
LAST-MODIFIED:20191030T145548Z
UID:4493-1573250400-1573268400@www.djpj.nl
SUMMARY:Lustrumfeest S.V. Life
DESCRIPTION:Lieve feestbeesten\, \nDeze keer openen we niet met ‘Lieve LIFE-leden’\, want je raadt het al\, het lustrumfeest komt eraan! Dit epische (open!!!) feest zal plaatsvinden op 8 november en IEDEREEN die houdt van een feestje is welkom. Om 10 uur worden de eerste welkomstshotjes uitgedeeld en kan het feest van start gaan! De deuren sluiten om 12 uur. Omdat het feest wordt georganiseerd ter ere van het lustrum der S.V. LIFE is het thema dit jaar ‘IN VITRO\, PARTY IN A PETRIDISH’\, om de LST sfeer en toch een beetje in te houden. \nEn vanavond met DJPJ!!!! \nAlleen toegankelijk met Studentenkaart en een ID.
URL:https://www.djpj.nl/event/lustrumfeest_svlife/
LOCATION:Cultuurlab\, Brabantse Turfmarkt 9\, Delft\, 2611CK\, Netherlands
CATEGORIES:Student Party
ATTACH;FMTTYPE=image/jpeg:https://www.djpj.nl/wp-content/uploads/2019/10/DJPJ_lustrumLife_2019.jpg
END:VEVENT
END:VCALENDAR