BEGIN:VCALENDAR
VERSION:2.0
PRODID:-//DJPJ - ECPv5.3.2.1//NONSGML v1.0//EN
CALSCALE:GREGORIAN
METHOD:PUBLISH
X-WR-CALNAME:DJPJ
X-ORIGINAL-URL:https://www.djpj.nl
X-WR-CALDESC:Events for DJPJ
BEGIN:VTIMEZONE
TZID:UTC
BEGIN:STANDARD
TZOFFSETFROM:+0000
TZOFFSETTO:+0000
TZNAME:UTC
DTSTART:20200101T000000
END:STANDARD
END:VTIMEZONE
BEGIN:VEVENT
DTSTART;VALUE=DATE:20200111
DTEND;VALUE=DATE:20200113
DTSTAMP:20260421T124747
CREATED:20191230T180504Z
LAST-MODIFIED:20191230T180504Z
UID:4713-1578722400-1578808799@www.djpj.nl
SUMMARY:LustrumGala L.H.D. Amigos
DESCRIPTION:Bij een Lustrum hoort uiteraard een Gala!! \nEn ook met DJPJ!!! \nAlleen toegankelijk voor leden van L.H.D. Amigos en genodigden.
URL:https://www.djpj.nl/event/lustrumgala-lhd-amigos/
LOCATION:Kasteel De Berckt\, De Berckt 1\, Baarlo\, 5991PD\, Netherlands
CATEGORIES:Student Party
ATTACH;FMTTYPE=image/jpeg:https://www.djpj.nl/wp-content/uploads/2019/12/DJPJ_Gala_Amigos_2020.jpg
END:VEVENT
END:VCALENDAR