BEGIN:VCALENDAR
VERSION:2.0
PRODID:-//DJPJ - ECPv5.3.2.1//NONSGML v1.0//EN
CALSCALE:GREGORIAN
METHOD:PUBLISH
X-WR-CALNAME:DJPJ
X-ORIGINAL-URL:https://www.djpj.nl
X-WR-CALDESC:Events for DJPJ
BEGIN:VTIMEZONE
TZID:UTC
BEGIN:STANDARD
TZOFFSETFROM:+0000
TZOFFSETTO:+0000
TZNAME:UTC
DTSTART:20190101T000000
END:STANDARD
END:VTIMEZONE
BEGIN:VEVENT
DTSTART;TZID=UTC:20190406T170000
DTEND;TZID=UTC:20190407T023000
DTSTAMP:20260421T090639
CREATED:20190404T141817Z
LAST-MODIFIED:20190404T141817Z
UID:4049-1554570000-1554604200@www.djpj.nl
SUMMARY:LustrumGala Quintus
DESCRIPTION:Om het 8ste lustrum der A.L.S.V. Quintus te vieren is de Lustrumgalacommissie druk bezig om het gala komend jaar nóg groter en Leidscher te maken dan ooit. Hier zal de komende 5 jaar over gepraat worden\, dit wil je niet missen; 6 april 2019! \nEn ook met DJPJ!!! \nAlleen toegankelijk voor leden van Quintus en genodigden.
URL:https://www.djpj.nl/event/lustrumgalaquintus/
LOCATION:Kasteel Hoensbroek\, Klinkertstraat 118\, Hoensbroek\, 6433PB
CATEGORIES:Student Party
ATTACH;FMTTYPE=image/jpeg:https://www.djpj.nl/wp-content/uploads/2019/04/DJPJ_Gala_Quintus_2019.jpg
END:VEVENT
END:VCALENDAR