BEGIN:VCALENDAR
VERSION:2.0
PRODID:-//DJPJ - ECPv5.3.2.1//NONSGML v1.0//EN
CALSCALE:GREGORIAN
METHOD:PUBLISH
X-WR-CALNAME:DJPJ
X-ORIGINAL-URL:https://www.djpj.nl
X-WR-CALDESC:Events for DJPJ
BEGIN:VTIMEZONE
TZID:UTC
BEGIN:STANDARD
TZOFFSETFROM:+0000
TZOFFSETTO:+0000
TZNAME:UTC
DTSTART:20190101T000000
END:STANDARD
END:VTIMEZONE
BEGIN:VEVENT
DTSTART;TZID=UTC:20190213T230000
DTEND;TZID=UTC:20190214T040000
DTSTAMP:20260421T124716
CREATED:20190202T143838Z
LAST-MODIFIED:20190202T144042Z
UID:3891-1550098800-1550116800@www.djpj.nl
SUMMARY:Lustrum Winter ElCid Feest
DESCRIPTION:Maak je klaar voor het feest van het jaar! Op woensdag 13 februari nemen we de Gebr. de Nobel over om het nieuwe (EL CID-)jaar vol goud en glitter af te trappen met het traditionele Winter EL CID-Feest! \nDit jaar is extra speciaal: de EL CID bestaat namelijk 50 jaar! En dit moet gevierd worden. Ken jij de grasmaaier nog? Op dit bijzondere lustrumfeest kan EL CID-fenomeen Barry Badpak natuurlijk niet ontbreken. Ook DJ PJ komt alles uit de kast trekken om jou tot diep in de nacht los te laten gaan op de lekkerste hitjes. \nKom het EL CID-lustrum vieren\, neem je huisgenoten\, club\, cordial\, dispuut\, study buddies of mentorgroepje mee en maak er een onvergetelijke avond van! En om het nog mooier te maken: je kunt je op dit feest als allereerste inschrijven als mentor of crew! Kortom\, deze mijlpaal kun je niet missen! Cheers to 50 years\, tot dan! \nAlleen toegankelijk met Studentenkaart.
URL:https://www.djpj.nl/event/lustrumwinterelcidfeest/
LOCATION:De Nobel\, Marktsteeg 8\, Leiden\, 2312CS\, Netherlands
CATEGORIES:Student Party
ATTACH;FMTTYPE=image/jpeg:https://www.djpj.nl/wp-content/uploads/2019/02/DJPJ_LustrumWinterElCidFeest_2019.jpg
END:VEVENT
END:VCALENDAR