BEGIN:VCALENDAR
VERSION:2.0
PRODID:-//DJPJ - ECPv5.3.2.1//NONSGML v1.0//EN
CALSCALE:GREGORIAN
METHOD:PUBLISH
X-WR-CALNAME:DJPJ
X-ORIGINAL-URL:https://www.djpj.nl
X-WR-CALDESC:Events for DJPJ
BEGIN:VTIMEZONE
TZID:UTC
BEGIN:STANDARD
TZOFFSETFROM:+0000
TZOFFSETTO:+0000
TZNAME:UTC
DTSTART:20190101T000000
END:STANDARD
END:VTIMEZONE
BEGIN:VEVENT
DTSTART;TZID=UTC:20190228T220000
DTEND;TZID=UTC:20190301T040000
DTSTAMP:20260421T081457
CREATED:20190202T152837Z
LAST-MODIFIED:20190228T165727Z
UID:3915-1551391200-1551412800@www.djpj.nl
SUMMARY:Mechnificent 2019
DESCRIPTION:Houd 28 februari vrij want Mechnificent komt er weer aan! Dit jaar brengen we het legendarische evenement terug naar Delft. Ga feesten met iedereen en Release The Stress! \nOnder andere met DJPJ!!! \nAlleen toegankelijk met collegekaart.
URL:https://www.djpj.nl/event/mechnificent/
LOCATION:Lijm&Cultuur\, Rotterdamseweg 272\, Delft\, 2628AT\, Netherlands
CATEGORIES:Student Party
ATTACH;FMTTYPE=image/jpeg:https://www.djpj.nl/wp-content/uploads/2019/02/DJPJ_Mechnificent_2019.jpg
END:VEVENT
END:VCALENDAR