BEGIN:VCALENDAR
VERSION:2.0
PRODID:-//DJPJ - ECPv5.3.2.1//NONSGML v1.0//EN
CALSCALE:GREGORIAN
METHOD:PUBLISH
X-WR-CALNAME:DJPJ
X-ORIGINAL-URL:https://www.djpj.nl
X-WR-CALDESC:Events for DJPJ
BEGIN:VTIMEZONE
TZID:UTC
BEGIN:STANDARD
TZOFFSETFROM:+0000
TZOFFSETTO:+0000
TZNAME:UTC
DTSTART:20200101T000000
END:STANDARD
END:VTIMEZONE
BEGIN:VEVENT
DTSTART;TZID=UTC:20200702T160000
DTEND;TZID=UTC:20200703T030000
DTSTAMP:20260421T194301
CREATED:20200629T143842Z
LAST-MODIFIED:20200629T143842Z
UID:4909-1593705600-1593745200@www.djpj.nl
SUMMARY:MZN 2020: Afterparty
DESCRIPTION:Vier jij met ons het einde van het collegejaar?\nLuid de zomervakantie in en volg de MZN 2020 livestream op donderdag 2 juli van 16:00 – 01:00.\nEn vanaf 01:00 kun jij bij de afterparty zijn met DJPJ!!!
URL:https://www.djpj.nl/event/mzn2020afterparty/
LOCATION:Steck\, Kromstraat 25\, Delft\, 2611EP\, Netherlands
CATEGORIES:Party
ATTACH;FMTTYPE=image/jpeg:https://www.djpj.nl/wp-content/uploads/2020/06/DJPJ_MZNafterparty_Stylos_2020.jpg
END:VEVENT
END:VCALENDAR