BEGIN:VCALENDAR
VERSION:2.0
PRODID:-//DJPJ - ECPv5.3.2.1//NONSGML v1.0//EN
CALSCALE:GREGORIAN
METHOD:PUBLISH
X-WR-CALNAME:DJPJ
X-ORIGINAL-URL:https://www.djpj.nl
X-WR-CALDESC:Events for DJPJ
BEGIN:VTIMEZONE
TZID:UTC
BEGIN:STANDARD
TZOFFSETFROM:+0000
TZOFFSETTO:+0000
TZNAME:UTC
DTSTART:20240101T000000
END:STANDARD
END:VTIMEZONE
BEGIN:VEVENT
DTSTART;VALUE=DATE:20241114
DTEND;VALUE=DATE:20241116
DTSTAMP:20260420T205918
CREATED:20241107T171857Z
LAST-MODIFIED:20241107T171857Z
UID:7139-1731564000-1731650399@www.djpj.nl
SUMMARY:Open Feest DSB
DESCRIPTION:Wees welkom op het open feest ‘Sesam open u’ ter gelegenheid van de 127ste Dies Natalis van de Delftsche Studenten Bond. Het feest zal plaatsvinden op 14 november om 20:00. \nDe deuren sluiten om 23:00\, dus wees op tijd! Het feest is 18+. De toegang is gratis met een ID- en studentenkaart. We zien jullie dan! \n\nEn DJPJ is erbij!!! \nAlleen toegankelijk met Studentenkaart.
URL:https://www.djpj.nl/event/open-feest-dsb-2/
LOCATION:DSB\, Oude Delft 123\, Delft\, 2611BE\, Netherlands
CATEGORIES:Student Party
ATTACH;FMTTYPE=image/jpeg:https://www.djpj.nl/wp-content/uploads/2024/11/DJPJ_DSB_OpenFeestDies_2024.jpg
END:VEVENT
END:VCALENDAR