BEGIN:VCALENDAR
VERSION:2.0
PRODID:-//DJPJ - ECPv5.3.2.1//NONSGML v1.0//EN
CALSCALE:GREGORIAN
METHOD:PUBLISH
X-WR-CALNAME:DJPJ
X-ORIGINAL-URL:https://www.djpj.nl
X-WR-CALDESC:Events for DJPJ
BEGIN:VTIMEZONE
TZID:UTC
BEGIN:STANDARD
TZOFFSETFROM:+0000
TZOFFSETTO:+0000
TZNAME:UTC
DTSTART:20240101T000000
END:STANDARD
END:VTIMEZONE
BEGIN:VEVENT
DTSTART;VALUE=DATE:20240905
DTEND;VALUE=DATE:20240907
DTSTAMP:20260420T140657
CREATED:20240827T160613Z
LAST-MODIFIED:20240827T160613Z
UID:7045-1725516000-1725602399@www.djpj.nl
SUMMARY:Opening Gorlaeusgebouw
DESCRIPTION:Op donderdag 5 september transformeert het Gorlaeus Gebouw tot een feestlocatie voor HET openingsfeest. Mis deze unieke kans niet om samen met medewerkers en studenten van de faculteit de opening van het prachtige Gorlaeus Gebouw te vieren. \nHet belooft een onvergetelijke avond te worden met een feestelijke line-up:\nDJ Teddie Heart\, Jazzalike\, The Partysquad en… DJPJ!!!! \nHet feest is alleen toegankelijk voor medewerkers en studenten die werken of studeren aan de Faculteit Wiskunde en Natuurwetenschappen.
URL:https://www.djpj.nl/event/opening-gorlaeusgebouw/
LOCATION:Faculteit WN Leiden\, Einsteinweg 55\, Leiden\, 2333CC\, Netherlands
CATEGORIES:Party
ATTACH;FMTTYPE=image/jpeg:https://www.djpj.nl/wp-content/uploads/2024/08/DJPJ_GorlaeusGebouw_2024.jpg
END:VEVENT
END:VCALENDAR