BEGIN:VCALENDAR
VERSION:2.0
PRODID:-//DJPJ - ECPv5.3.2.1//NONSGML v1.0//EN
CALSCALE:GREGORIAN
METHOD:PUBLISH
X-WR-CALNAME:DJPJ
X-ORIGINAL-URL:https://www.djpj.nl
X-WR-CALDESC:Events for DJPJ
BEGIN:VTIMEZONE
TZID:UTC
BEGIN:STANDARD
TZOFFSETFROM:+0000
TZOFFSETTO:+0000
TZNAME:UTC
DTSTART:20220101T000000
END:STANDARD
END:VTIMEZONE
BEGIN:VEVENT
DTSTART;VALUE=DATE:20221020
DTEND;VALUE=DATE:20221022
DTSTAMP:20260420T093749
CREATED:20221009T150858Z
LAST-MODIFIED:20221009T150858Z
UID:5801-1666245600-1666331999@www.djpj.nl
SUMMARY:Openingsfeest Lustrum MFLS 2022
DESCRIPTION:De MFLS viert haar lustrum! \nEn vanavond met DJPJ!! \nAlleen toegankelijk voor leden van de MFLS en genodigden.
URL:https://www.djpj.nl/event/openingsfeest-lustrum-mfls-2022/
LOCATION:Kiki Club\, Lammermarkt 100\, Leiden\, 2312CW
CATEGORIES:Student Party
ATTACH;FMTTYPE=image/jpeg:https://www.djpj.nl/wp-content/uploads/2022/10/MFLS_Lustrum_Openingsfeest_2022.jpg
END:VEVENT
END:VCALENDAR