BEGIN:VCALENDAR
VERSION:2.0
PRODID:-//DJPJ - ECPv5.3.2.1//NONSGML v1.0//EN
CALSCALE:GREGORIAN
METHOD:PUBLISH
X-WR-CALNAME:DJPJ
X-ORIGINAL-URL:https://www.djpj.nl
X-WR-CALDESC:Events for DJPJ
BEGIN:VTIMEZONE
TZID:UTC
BEGIN:STANDARD
TZOFFSETFROM:+0000
TZOFFSETTO:+0000
TZNAME:UTC
DTSTART:20230101T000000
END:STANDARD
END:VTIMEZONE
BEGIN:VEVENT
DTSTART;VALUE=DATE:20230816
DTEND;VALUE=DATE:20230818
DTSTAMP:20260420T162228
CREATED:20230808T113439Z
LAST-MODIFIED:20240814T165013Z
UID:6425-1692165600-1692251999@www.djpj.nl
SUMMARY:OWee 2023: Cantus
DESCRIPTION:Er moet natuurlijk ook gezongen worden door goed gesmeerde keeltjes!\nEn DJPJ is daarbij!!
URL:https://www.djpj.nl/event/owee-2023-cantus/
LOCATION:OWee Terrein\, Van der Waalsweg\, Delft\, 2628CH\, Netherlands
CATEGORIES:Student Party
ATTACH;FMTTYPE=image/jpeg:https://www.djpj.nl/wp-content/uploads/2023/08/DJPJ_OWee_2023.jpg
END:VEVENT
END:VCALENDAR