BEGIN:VCALENDAR
VERSION:2.0
PRODID:-//DJPJ - ECPv5.3.2.1//NONSGML v1.0//EN
CALSCALE:GREGORIAN
METHOD:PUBLISH
X-WR-CALNAME:DJPJ
X-ORIGINAL-URL:https://www.djpj.nl
X-WR-CALDESC:Events for DJPJ
BEGIN:VTIMEZONE
TZID:UTC
BEGIN:STANDARD
TZOFFSETFROM:+0000
TZOFFSETTO:+0000
TZNAME:UTC
DTSTART:20220101T000000
END:STANDARD
END:VTIMEZONE
BEGIN:VEVENT
DTSTART;VALUE=DATE:20220822
DTEND;VALUE=DATE:20220824
DTSTAMP:20260421T000609
CREATED:20220803T145817Z
LAST-MODIFIED:20220803T150126Z
UID:5643-1661148000-1661234399@www.djpj.nl
SUMMARY:OWee DSB 2022
DESCRIPTION:DSB is een van de grootste studentenverenigingen van Delft.\nKom tijdens de OWee langs om de sfeer\, en een klein biertje\, te proeven!\nEn vanavond met DJPJ!!\nAlleen toegankelijk voor leden van DSB en deelnemers aan de OWee
URL:https://www.djpj.nl/event/owee-dsb-2022/
LOCATION:DSB\, Oude Delft 123\, Delft\, 2611BE\, Netherlands
CATEGORIES:Student Party
ATTACH;FMTTYPE=image/jpeg:https://www.djpj.nl/wp-content/uploads/2022/08/DJPJ_DSB_OWee_2022.jpg
END:VEVENT
END:VCALENDAR