BEGIN:VCALENDAR
VERSION:2.0
PRODID:-//DJPJ - ECPv5.3.2.1//NONSGML v1.0//EN
CALSCALE:GREGORIAN
METHOD:PUBLISH
X-WR-CALNAME:DJPJ
X-ORIGINAL-URL:https://www.djpj.nl
X-WR-CALDESC:Events for DJPJ
BEGIN:VTIMEZONE
TZID:UTC
BEGIN:STANDARD
TZOFFSETFROM:+0000
TZOFFSETTO:+0000
TZNAME:UTC
DTSTART:20230101T000000
END:STANDARD
END:VTIMEZONE
BEGIN:VEVENT
DTSTART;VALUE=DATE:20230814
DTEND;VALUE=DATE:20230816
DTSTAMP:20260420T235527
CREATED:20230808T113742Z
LAST-MODIFIED:20230808T113742Z
UID:6429-1691992800-1692079199@www.djpj.nl
SUMMARY:OWee DSB 2023
DESCRIPTION:DSB is een van de grootste studentenverenigingen van Delft.\nKom tijdens de OWee langs om de sfeer\, en een klein biertje\, te proeven!\nEn DJPJ is erbij!!\nAlleen toegankelijk voor leden van DSB en deelnemers aan de OWee
URL:https://www.djpj.nl/event/owee-dsb-2023/
LOCATION:DSB\, Oude Delft 123\, Delft\, 2611BE\, Netherlands
CATEGORIES:Student Party
ATTACH;FMTTYPE=image/jpeg:https://www.djpj.nl/wp-content/uploads/2023/08/DJPJ_OWee_DSB_2023.jpg
END:VEVENT
END:VCALENDAR