BEGIN:VCALENDAR
VERSION:2.0
PRODID:-//DJPJ - ECPv5.3.2.1//NONSGML v1.0//EN
CALSCALE:GREGORIAN
METHOD:PUBLISH
X-WR-CALNAME:DJPJ
X-ORIGINAL-URL:https://www.djpj.nl
X-WR-CALDESC:Events for DJPJ
BEGIN:VTIMEZONE
TZID:UTC
BEGIN:STANDARD
TZOFFSETFROM:+0000
TZOFFSETTO:+0000
TZNAME:UTC
DTSTART:20240101T000000
END:STANDARD
END:VTIMEZONE
BEGIN:VEVENT
DTSTART;VALUE=DATE:20240819
DTEND;VALUE=DATE:20240821
DTSTAMP:20260420T235412
CREATED:20240814T165345Z
LAST-MODIFIED:20240814T165345Z
UID:7003-1724047200-1724133599@www.djpj.nl
SUMMARY:OWee DSB 2024
DESCRIPTION:DSB is een van de grootste studentenverenigingen van Delft.\nKom tijdens de OWee langs om de sfeer\, en een klein biertje\, te proeven!\nEn DJPJ is erbij!!\nAlleen toegankelijk voor leden van DSB en deelnemers aan de OWee
URL:https://www.djpj.nl/event/owee-dsb-2024/
LOCATION:DSB\, Oude Delft 123\, Delft\, 2611BE\, Netherlands
CATEGORIES:Student Party
ATTACH;FMTTYPE=image/jpeg:https://www.djpj.nl/wp-content/uploads/2024/08/DJPJ_OWee_DSB_2024.jpg
END:VEVENT
END:VCALENDAR