BEGIN:VCALENDAR
VERSION:2.0
PRODID:-//DJPJ - ECPv5.3.2.1//NONSGML v1.0//EN
CALSCALE:GREGORIAN
METHOD:PUBLISH
X-WR-CALNAME:DJPJ
X-ORIGINAL-URL:https://www.djpj.nl
X-WR-CALDESC:Events for DJPJ
BEGIN:VTIMEZONE
TZID:UTC
BEGIN:STANDARD
TZOFFSETFROM:+0000
TZOFFSETTO:+0000
TZNAME:UTC
DTSTART:20190101T000000
END:STANDARD
END:VTIMEZONE
BEGIN:VEVENT
DTSTART;VALUE=DATE:20190821
DTEND;VALUE=DATE:20190823
DTSTAMP:20260421T004842
CREATED:20190801T133153Z
LAST-MODIFIED:20190801T133153Z
UID:4315-1566367200-1566453599@www.djpj.nl
SUMMARY:OWee 2019: DSC
DESCRIPTION:Het Delftsch Studenten Corps is een van de leukste studentenverenigingen van Delft.\nKom tijdens de OWee langs om de sfeer\, en een klein biertje\, te proeven!\nEn vanavond met DJPJ!!\nAlleen toegankelijk voor leden van het DSC en deelnemers aan de OWee
URL:https://www.djpj.nl/event/owee-dsc/
LOCATION:DSC\, Phoenixstraat 30\, Delft\, 2611AL\, Netherlands
CATEGORIES:Student Party
ATTACH;FMTTYPE=image/jpeg:https://www.djpj.nl/wp-content/uploads/2019/08/DJPJ_OWee2019_DSC.jpg
END:VEVENT
END:VCALENDAR