BEGIN:VCALENDAR
VERSION:2.0
PRODID:-//DJPJ - ECPv5.3.2.1//NONSGML v1.0//EN
CALSCALE:GREGORIAN
METHOD:PUBLISH
X-WR-CALNAME:DJPJ
X-ORIGINAL-URL:https://www.djpj.nl
X-WR-CALDESC:Events for DJPJ
BEGIN:VTIMEZONE
TZID:UTC
BEGIN:STANDARD
TZOFFSETFROM:+0000
TZOFFSETTO:+0000
TZNAME:UTC
DTSTART:20200101T000000
END:STANDARD
END:VTIMEZONE
BEGIN:VEVENT
DTSTART;TZID=UTC:20200326T233000
DTEND;TZID=UTC:20200327T043000
DTSTAMP:20260421T072708
CREATED:20200301T151452Z
LAST-MODIFIED:20200301T151452Z
UID:4837-1585265400-1585283400@www.djpj.nl
SUMMARY:PaardCafe: Allez! Allez!
DESCRIPTION:Allez! Allez! is de nieuwe donderdagnacht in het Paardcafé met resident-dj’s FRISS\, Smaakmakers\, DjPj en DJ Prosciutto. \nVerwacht de beste indie\, de vunzigste bootyshakers\, de grootste hits en de lekkerste dansplaten. \nVerwacht allez eigenlijk. Dansen tot je broek afzakt. Allez! Allez! brengt de donder terug op de donderdagavond.
URL:https://www.djpj.nl/event/paardcafe-allez-allez/
LOCATION:Paard Cafe\, Den Haag\, Prinsegracht 10\, Den Haag\, 2512 GA\, Netherlands
CATEGORIES:Party
ATTACH;FMTTYPE=image/jpeg:https://www.djpj.nl/wp-content/uploads/2019/12/DJPJ_Pcafe_AllezAllez.jpg
END:VEVENT
END:VCALENDAR