BEGIN:VCALENDAR
VERSION:2.0
PRODID:-//DJPJ - ECPv5.3.2.1//NONSGML v1.0//EN
CALSCALE:GREGORIAN
METHOD:PUBLISH
X-WR-CALNAME:DJPJ
X-ORIGINAL-URL:https://www.djpj.nl
X-WR-CALDESC:Events for DJPJ
BEGIN:VTIMEZONE
TZID:UTC
BEGIN:STANDARD
TZOFFSETFROM:+0000
TZOFFSETTO:+0000
TZNAME:UTC
DTSTART:20190101T000000
END:STANDARD
END:VTIMEZONE
BEGIN:VEVENT
DTSTART;TZID=UTC:20190529T233000
DTEND;TZID=UTC:20190530T043000
DTSTAMP:20260420T203130
CREATED:20190521T172759Z
LAST-MODIFIED:20190521T172759Z
UID:4135-1559172600-1559190600@www.djpj.nl
SUMMARY:PaardCafe: DJPJ
DESCRIPTION:DJPJ’s draaistijl is te omschrijven als een achtbaan die heen en weer roetsjt tussen jaren ’60 rock-’n-roll en de Top 40 van nu. \nDoor zijn brede muzieksmaak en immer uitdijende muziekcollectie is hij lastig in een hokje te plaatsen\, maar DJ PJ’s draaistijl is te omschrijven als een achtbaan die heen en weer roetsjt tussen jaren ’60 rock-’n-roll en de Top 40 van nu\, daarbij een aantal keer over de kop gaat via de danceclassics uit de 70’s\, 80’s en 90’s en uitkomt bij lekkere gitaarplaatjes.
URL:https://www.djpj.nl/event/paardcafe-djpj-2-2-2-2-2-2-2-2-2/
LOCATION:Paard Cafe\, Den Haag\, Prinsegracht 10\, Den Haag\, 2512 GA\, Netherlands
CATEGORIES:Party
ATTACH;FMTTYPE=image/jpeg:https://www.djpj.nl/wp-content/uploads/2018/07/DJPJ_Pcafe.jpg
END:VEVENT
END:VCALENDAR