BEGIN:VCALENDAR
VERSION:2.0
PRODID:-//DJPJ - ECPv5.3.2.1//NONSGML v1.0//EN
CALSCALE:GREGORIAN
METHOD:PUBLISH
X-WR-CALNAME:DJPJ
X-ORIGINAL-URL:https://www.djpj.nl
X-WR-CALDESC:Events for DJPJ
BEGIN:VTIMEZONE
TZID:UTC
BEGIN:STANDARD
TZOFFSETFROM:+0000
TZOFFSETTO:+0000
TZNAME:UTC
DTSTART:20200101T000000
END:STANDARD
END:VTIMEZONE
BEGIN:VEVENT
DTSTART;TZID=UTC:20200808T230000
DTEND;TZID=UTC:20200809T030000
DTSTAMP:20260421T211413
CREATED:20200301T150509Z
LAST-MODIFIED:20200801T160216Z
UID:4923-1596927600-1596942000@www.djpj.nl
SUMMARY:PaardCafe: DJPJ's Bday Bash
DESCRIPTION:Voor alle nachtbrakers onder ons is het Paardcafé de komende maand het Nachtcafé. Een relaxed plekje om je weekend mee af te sluiten. \nElke zaterdag ben je van 23:00 tot gezellig welkom om met ons de nacht in te gaan in ons Café. \nEn dat doen we natuurlijk niet alleen. Elke editie hebben we de leukste dj’s uitgenodigd voor de nodige tunes. \nDeze editie kan het alle kanten op gaan met de dikste platen van DJPJ. \nDaarnaast viert hij zijn verjaardag!\nHet wordt dus sowieso gezellig! \nReserveren is niet verplicht. Maar wil je zeker zijn van een plekje stuur ons dan een berichtje op onze Facebook pagina. \nspelregels:\n– 18+\n– Bij aankomst handen desinfecteren.\n– Bezoekers houden zoveel mogelijk 1\,5 meter afstand\nvan elkaar\n– Blijf zo veel mogelijk aan je tafel zitten.
URL:https://www.djpj.nl/event/paardcafe-djpj-4-2/
LOCATION:Paard Cafe\, Den Haag\, Prinsegracht 10\, Den Haag\, 2512 GA\, Netherlands
CATEGORIES:Party
ATTACH;FMTTYPE=image/jpeg:https://www.djpj.nl/wp-content/uploads/2020/03/DJPJ_Pcafe_NACHTCAFE_aug2020.jpg
END:VEVENT
END:VCALENDAR