BEGIN:VCALENDAR
VERSION:2.0
PRODID:-//DJPJ - ECPv5.3.2.1//NONSGML v1.0//EN
CALSCALE:GREGORIAN
METHOD:PUBLISH
X-WR-CALNAME:DJPJ
X-ORIGINAL-URL:https://www.djpj.nl
X-WR-CALDESC:Events for DJPJ
BEGIN:VTIMEZONE
TZID:UTC
BEGIN:STANDARD
TZOFFSETFROM:+0000
TZOFFSETTO:+0000
TZNAME:UTC
DTSTART:20190101T000000
END:STANDARD
END:VTIMEZONE
BEGIN:VEVENT
DTSTART;TZID=UTC:20190622T233000
DTEND;TZID=UTC:20190623T043000
DTSTAMP:20260420T184808
CREATED:20190403T111945Z
LAST-MODIFIED:20190531T130606Z
UID:4015-1561246200-1561264200@www.djpj.nl
SUMMARY:PaardCafe: Outside The Box
DESCRIPTION:Een avond terug in de tijd\, maar dan net even “anders”.\nDJPJ zal vanavond buiten de vertrouwde kaders treden van de normale alledaagse classics avonden\, want overal hoor je altijd maar dezelfde afgezaagde mainstream plaatjes…\nTerwijl er in de afgelopen 50 jaar ook zoveel “andere” net zo herkenbare en dansbare muziek is gemaakt! \nDus laat je verrassen door de deuntjes uit de diepe krochten van zijn muziekcollectie!!
URL:https://www.djpj.nl/event/paardcafe-outsidethebox-2/
LOCATION:Paard Cafe\, Den Haag\, Prinsegracht 10\, Den Haag\, 2512 GA\, Netherlands
CATEGORIES:Party
ATTACH;FMTTYPE=image/jpeg:https://www.djpj.nl/wp-content/uploads/2019/02/DJPJ_Pcafe_OutsideTheBox.jpg
END:VEVENT
END:VCALENDAR