BEGIN:VCALENDAR
VERSION:2.0
PRODID:-//DJPJ - ECPv5.3.2.1//NONSGML v1.0//EN
CALSCALE:GREGORIAN
METHOD:PUBLISH
X-WR-CALNAME:DJPJ
X-ORIGINAL-URL:https://www.djpj.nl
X-WR-CALDESC:Events for DJPJ
BEGIN:VTIMEZONE
TZID:UTC
BEGIN:STANDARD
TZOFFSETFROM:+0000
TZOFFSETTO:+0000
TZNAME:UTC
DTSTART:20220101T000000
END:STANDARD
END:VTIMEZONE
BEGIN:VEVENT
DTSTART;VALUE=DATE:20220705
DTEND;VALUE=DATE:20220707
DTSTAMP:20260420T134608
CREATED:20220702T164552Z
LAST-MODIFIED:20220702T165213Z
UID:5563-1657000800-1657087199@www.djpj.nl
SUMMARY:PaarsPop Asopos 2022
DESCRIPTION:Het is feest bij Asopos. \nEn vanavond met DJPJ!!! \nAlleen toegankelijk voor leden van Asopos en genodigden.
URL:https://www.djpj.nl/event/paarspop-asopos-2022/
LOCATION:Asopos de Vliet\, Zijlstroom 137\, Leiderdorp\, 2353NN\, Netherlands
CATEGORIES:Student Party
ATTACH;FMTTYPE=image/jpeg:https://www.djpj.nl/wp-content/uploads/2022/07/DJPJ_PaarsPopAsopos_2022.jpg
END:VEVENT
END:VCALENDAR