BEGIN:VCALENDAR
VERSION:2.0
PRODID:-//DJPJ - ECPv5.3.2.1//NONSGML v1.0//EN
CALSCALE:GREGORIAN
METHOD:PUBLISH
X-WR-CALNAME:DJPJ
X-ORIGINAL-URL:https://www.djpj.nl
X-WR-CALDESC:Events for DJPJ
BEGIN:VTIMEZONE
TZID:UTC
BEGIN:STANDARD
TZOFFSETFROM:+0000
TZOFFSETTO:+0000
TZNAME:UTC
DTSTART:20240101T000000
END:STANDARD
END:VTIMEZONE
BEGIN:VEVENT
DTSTART;VALUE=DATE:20240710
DTEND;VALUE=DATE:20240712
DTSTAMP:20260420T134537
CREATED:20240702T114611Z
LAST-MODIFIED:20240702T114611Z
UID:6929-1720591200-1720677599@www.djpj.nl
SUMMARY:PaarsPop Asopos 2024
DESCRIPTION:Het is feest bij Asopos. \nEn vanavond met DJPJ!!! \nAlleen toegankelijk voor leden van Asopos en genodigden.
URL:https://www.djpj.nl/event/paarspop-asopos-2024/
LOCATION:Asopos de Vliet\, Zijlstroom 137\, Leiderdorp\, 2353NN\, Netherlands
CATEGORIES:Student Party
ATTACH;FMTTYPE=image/jpeg:https://www.djpj.nl/wp-content/uploads/2024/07/DJPJ_Paarspop_2024.jpg
END:VEVENT
END:VCALENDAR