BEGIN:VCALENDAR
VERSION:2.0
PRODID:-//DJPJ - ECPv5.3.2.1//NONSGML v1.0//EN
CALSCALE:GREGORIAN
METHOD:PUBLISH
X-WR-CALNAME:DJPJ
X-ORIGINAL-URL:https://www.djpj.nl
X-WR-CALDESC:Events for DJPJ
BEGIN:VTIMEZONE
TZID:UTC
BEGIN:STANDARD
TZOFFSETFROM:+0000
TZOFFSETTO:+0000
TZNAME:UTC
DTSTART:20190101T000000
END:STANDARD
END:VTIMEZONE
BEGIN:VEVENT
DTSTART;TZID=UTC:20190220T220000
DTEND;TZID=UTC:20190221T040000
DTSTAMP:20260421T094308
CREATED:20190202T145140Z
LAST-MODIFIED:20190202T145140Z
UID:3903-1550700000-1550721600@www.djpj.nl
SUMMARY:SjaarCie Party: Hakuna maSjaarCie
DESCRIPTION:The SjaarCie is back and here to get rid of your worries for the rest of your days. Be Timon\, Pumba or Simba for a night to go wild like an animal. Come to the party on 20 Januari at the Bierfabriek and feel the problem-free vibes. Save the date! \nOnder andere met DJPJ!!! \nAlleen toegankelijk met collegekaart.
URL:https://www.djpj.nl/event/sjaarciefeest/
LOCATION:Bierfabriek\, Burgwal 45\, Delft\, 2611GG\, Netherlands
CATEGORIES:Student Party
ATTACH;FMTTYPE=image/jpeg:https://www.djpj.nl/wp-content/uploads/2019/02/DJPJ_SjaarCieParty_2019.jpg
END:VEVENT
END:VCALENDAR