BEGIN:VCALENDAR
VERSION:2.0
PRODID:-//DJPJ - ECPv5.3.2.1//NONSGML v1.0//EN
CALSCALE:GREGORIAN
METHOD:PUBLISH
X-WR-CALNAME:DJPJ
X-ORIGINAL-URL:https://www.djpj.nl
X-WR-CALDESC:Events for DJPJ
BEGIN:VTIMEZONE
TZID:UTC
BEGIN:STANDARD
TZOFFSETFROM:+0000
TZOFFSETTO:+0000
TZNAME:UTC
DTSTART:20230101T000000
END:STANDARD
END:VTIMEZONE
BEGIN:VEVENT
DTSTART;VALUE=DATE:20230515
DTEND;VALUE=DATE:20230517
DTSTAMP:20260420T235848
CREATED:20230511T132725Z
LAST-MODIFIED:20230511T132725Z
UID:6247-1684130400-1684216799@www.djpj.nl
SUMMARY:Slagtandfeest 2023
DESCRIPTION:Op maandagavond 15 mei is het epische slagtandfeest! Wees erbij en neem je vrienden mee! \nEn vanavond met DJPJ!! \nAlleen toegankelijk met studentenkaart.
URL:https://www.djpj.nl/event/slagtandfeest-2023/
LOCATION:De Kurk\, Kromstraat 20\, Delft\, 2611ER\, Netherlands
CATEGORIES:Student Party
ATTACH;FMTTYPE=image/jpeg:https://www.djpj.nl/wp-content/uploads/2023/05/DJPJ_Slagtandfeest_2023.jpg
END:VEVENT
END:VCALENDAR