BEGIN:VCALENDAR
VERSION:2.0
PRODID:-//DJPJ - ECPv5.3.2.1//NONSGML v1.0//EN
CALSCALE:GREGORIAN
METHOD:PUBLISH
X-WR-CALNAME:DJPJ
X-ORIGINAL-URL:https://www.djpj.nl
X-WR-CALDESC:Events for DJPJ
BEGIN:VTIMEZONE
TZID:UTC
BEGIN:STANDARD
TZOFFSETFROM:+0000
TZOFFSETTO:+0000
TZNAME:UTC
DTSTART:20220101T000000
END:STANDARD
END:VTIMEZONE
BEGIN:VEVENT
DTSTART;VALUE=DATE:20220624
DTEND;VALUE=DATE:20220626
DTSTAMP:20260420T230832
CREATED:20220601T110443Z
LAST-MODIFIED:20220601T110443Z
UID:5505-1656050400-1656136799@www.djpj.nl
SUMMARY:Slotfeest DSB 2022
DESCRIPTION:Het laatste feestje van de AkCie van de DSB voor de vakantie!! \nEn DJPJ is erbij! \nAlleen toegankelijk voor leden van DSB en genodigden.
URL:https://www.djpj.nl/event/slotfeest-dsb-2022/
LOCATION:DSB\, Oude Delft 123\, Delft\, 2611BE\, Netherlands
CATEGORIES:Student Party
ATTACH;FMTTYPE=image/jpeg:https://www.djpj.nl/wp-content/uploads/2022/06/DJPJ_AkCieSlotFeest_DSB_2022.jpg
END:VEVENT
END:VCALENDAR