BEGIN:VCALENDAR
VERSION:2.0
PRODID:-//DJPJ - ECPv5.3.2.1//NONSGML v1.0//EN
CALSCALE:GREGORIAN
METHOD:PUBLISH
X-WR-CALNAME:DJPJ
X-ORIGINAL-URL:https://www.djpj.nl
X-WR-CALDESC:Events for DJPJ
BEGIN:VTIMEZONE
TZID:UTC
BEGIN:STANDARD
TZOFFSETFROM:+0000
TZOFFSETTO:+0000
TZNAME:UTC
DTSTART:20240101T000000
END:STANDARD
END:VTIMEZONE
BEGIN:VEVENT
DTSTART;VALUE=DATE:20240531
DTEND;VALUE=DATE:20240602
DTSTAMP:20260421T002036
CREATED:20240509T135041Z
LAST-MODIFIED:20240509T135041Z
UID:6795-1717135200-1717221599@www.djpj.nl
SUMMARY:Spoenk 2024
DESCRIPTION:Het grote grasvolleybaltoernooi dat elk jaar wordt georganiseerd door de Externe Toernooi Commissie van D.S.V.V. “Punch”. Dit wordt een weekend vol met volleybal\, muziek en gezelligheid! Het vindt dit jaar plaats van 31 mei tot 2 juni. \nEn DJPJ is er ook bij!! \nAlleen toegankelijk voor leden van D.S.V.V. “Punch” en genodigden.
URL:https://www.djpj.nl/event/spoenk-2024/
LOCATION:S.V. Wippolder\, Rijksstraatweg 9\, Delft\, 2628GZ\, Netherlands
CATEGORIES:Student Party
ATTACH;FMTTYPE=image/jpeg:https://www.djpj.nl/wp-content/uploads/2024/05/DJPJ_Spoenk_2024.jpg
END:VEVENT
END:VCALENDAR