BEGIN:VCALENDAR
VERSION:2.0
PRODID:-//DJPJ - ECPv5.3.2.1//NONSGML v1.0//EN
CALSCALE:GREGORIAN
METHOD:PUBLISH
X-WR-CALNAME:DJPJ
X-ORIGINAL-URL:https://www.djpj.nl
X-WR-CALDESC:Events for DJPJ
BEGIN:VTIMEZONE
TZID:UTC
BEGIN:STANDARD
TZOFFSETFROM:+0000
TZOFFSETTO:+0000
TZNAME:UTC
DTSTART:20230101T000000
END:STANDARD
END:VTIMEZONE
BEGIN:VEVENT
DTSTART;VALUE=DATE:20230421
DTEND;VALUE=DATE:20230423
DTSTAMP:20260421T051029
CREATED:20230421T125453Z
LAST-MODIFIED:20230421T125453Z
UID:6199-1682056800-1682143199@www.djpj.nl
SUMMARY:Spring BreAK Feest 2023
DESCRIPTION:Het einde van de tentamenperiode wordt ook gevierd op SJB!\nEn vanavond met DJPJ!!\nAlleen toegankelijk voor leden van Jansbrug en genodigden
URL:https://www.djpj.nl/event/springbreakfeest-2023/
LOCATION:Jansbrug\, Oude Delft 50-52\, Delft\, 2611CD\, Netherlands
CATEGORIES:Student Party
ATTACH;FMTTYPE=image/jpeg:https://www.djpj.nl/wp-content/uploads/2023/04/DJPJ_SJB_SpringbreAKfeest_2023.jpg
END:VEVENT
END:VCALENDAR