BEGIN:VCALENDAR
VERSION:2.0
PRODID:-//DJPJ - ECPv5.3.2.1//NONSGML v1.0//EN
CALSCALE:GREGORIAN
METHOD:PUBLISH
X-WR-CALNAME:DJPJ
X-ORIGINAL-URL:https://www.djpj.nl
X-WR-CALDESC:Events for DJPJ
BEGIN:VTIMEZONE
TZID:UTC
BEGIN:STANDARD
TZOFFSETFROM:+0000
TZOFFSETTO:+0000
TZNAME:UTC
DTSTART:20210101T000000
END:STANDARD
END:VTIMEZONE
BEGIN:VEVENT
DTSTART;TZID=UTC:20211016T190000
DTEND;TZID=UTC:20211017T000000
DTSTAMP:20260420T230832
CREATED:20211010T163311Z
LAST-MODIFIED:20211010T163311Z
UID:5043-1634410800-1634428800@www.djpj.nl
SUMMARY:STECK: Guilty Pleasure
DESCRIPTION:STECK Guilty Pleasure:\nIn oktober halen we álle guilty pleasures in die we de afgelopen 18 maanden hebben moeten missen. Van ’80s tot ’10’s en van hiphop tot metal. We zijn vanavond allemaal guilty extravaganza\, gewoon\, omdat het weer kán!.\nLine Up: Leroy Joy & DJPJ
URL:https://www.djpj.nl/event/steck-guilty-pleasure-2/
LOCATION:Steck\, Kromstraat 25\, Delft\, 2611EP\, Netherlands
CATEGORIES:Party
ATTACH;FMTTYPE=image/jpeg:https://www.djpj.nl/wp-content/uploads/2021/10/DJPJ_Steck_16102021.jpg
END:VEVENT
END:VCALENDAR