BEGIN:VCALENDAR
VERSION:2.0
PRODID:-//DJPJ - ECPv5.3.2.1//NONSGML v1.0//EN
CALSCALE:GREGORIAN
METHOD:PUBLISH
X-WR-CALNAME:DJPJ
X-ORIGINAL-URL:https://www.djpj.nl
X-WR-CALDESC:Events for DJPJ
BEGIN:VTIMEZONE
TZID:UTC
BEGIN:STANDARD
TZOFFSETFROM:+0000
TZOFFSETTO:+0000
TZNAME:UTC
DTSTART:20200101T000000
END:STANDARD
END:VTIMEZONE
BEGIN:VEVENT
DTSTART;TZID=UTC:20200604T223000
DTEND;TZID=UTC:20200605T030000
DTSTAMP:20260421T103415
CREATED:20200531T145124Z
LAST-MODIFIED:20200531T145437Z
UID:4883-1591309800-1591326000@www.djpj.nl
SUMMARY:STECK: Student Club
DESCRIPTION:STECK Student Club:\nFeest op gepaste wijze mee met DJPJ!!!\nKom je met meer dan twee personen? Geen probleem; dan zetten wij de tafels per twee personen 1\,5 meter uit elkaar. Maak de reservering voor je hele gezelschap wel door één persoon\, anders weten wij niet wie er bij elkaar willen zitten.
URL:https://www.djpj.nl/event/steck-student-club/
LOCATION:Steck\, Kromstraat 25\, Delft\, 2611EP\, Netherlands
CATEGORIES:Party
ATTACH;FMTTYPE=image/jpeg:https://www.djpj.nl/wp-content/uploads/2020/05/DJPJ_SteckStudentClub_2020.jpg
END:VEVENT
END:VCALENDAR