BEGIN:VCALENDAR
VERSION:2.0
PRODID:-//DJPJ - ECPv5.3.2.1//NONSGML v1.0//EN
CALSCALE:GREGORIAN
METHOD:PUBLISH
X-WR-CALNAME:DJPJ
X-ORIGINAL-URL:https://www.djpj.nl
X-WR-CALDESC:Events for DJPJ
BEGIN:VTIMEZONE
TZID:UTC
BEGIN:STANDARD
TZOFFSETFROM:+0000
TZOFFSETTO:+0000
TZNAME:UTC
DTSTART:20190101T000000
END:STANDARD
END:VTIMEZONE
BEGIN:VEVENT
DTSTART;TZID=UTC:20190509T230000
DTEND;TZID=UTC:20190510T040000
DTSTAMP:20260421T011838
CREATED:20190503T142508Z
LAST-MODIFIED:20190503T142508Z
UID:4087-1557442800-1557460800@www.djpj.nl
SUMMARY:Stylos Lustrum 2019
DESCRIPTION:Na een dag bouwen bij het station gaan we een feestje bouwen in de STECK. Ter ere van het 125-jarig jubileum van Stylos wordt het project ‘Bouwen met Delft’ georganiseerd. Om dit evenement feestelijk af te sluiten bouwen we nog een tof feest in de STECK.\n\nEn vanavond met DJPJ!!!
URL:https://www.djpj.nl/event/styloslustrum2019/
LOCATION:Steck\, Kromstraat 25\, Delft\, 2611EP\, Netherlands
CATEGORIES:Student Party
ATTACH;FMTTYPE=image/jpeg:https://www.djpj.nl/wp-content/uploads/2019/05/DJPJ_Stylos_Lustrum_2019.jpg
END:VEVENT
END:VCALENDAR