BEGIN:VCALENDAR
VERSION:2.0
PRODID:-//DJPJ - ECPv5.3.2.1//NONSGML v1.0//EN
CALSCALE:GREGORIAN
METHOD:PUBLISH
X-WR-CALNAME:DJPJ
X-ORIGINAL-URL:https://www.djpj.nl
X-WR-CALDESC:Events for DJPJ
BEGIN:VTIMEZONE
TZID:UTC
BEGIN:STANDARD
TZOFFSETFROM:+0000
TZOFFSETTO:+0000
TZNAME:UTC
DTSTART:20230101T000000
END:STANDARD
END:VTIMEZONE
BEGIN:VEVENT
DTSTART;VALUE=DATE:20231112
DTEND;VALUE=DATE:20231114
DTSTAMP:20260420T213655
CREATED:20231101T220727Z
LAST-MODIFIED:20231101T220727Z
UID:6571-1699768800-1699855199@www.djpj.nl
SUMMARY:TD Scoop 2023
DESCRIPTION:Hockey is mooi! \nMaar er moet ook gefeest worden!! \nOnder andere met DJPJ!!! \nAlleen toegankelijk voor leden van Scoop en genodigden.
URL:https://www.djpj.nl/event/td-scoop-2023/
LOCATION:De Kurk\, Kromstraat 20\, Delft\, 2611ER\, Netherlands
CATEGORIES:Student Party
ATTACH;FMTTYPE=image/jpeg:https://www.djpj.nl/wp-content/uploads/2022/04/DJPJ_TDScoop_2022.jpg
END:VEVENT
END:VCALENDAR