BEGIN:VCALENDAR
VERSION:2.0
PRODID:-//DJPJ - ECPv5.3.2.1//NONSGML v1.0//EN
CALSCALE:GREGORIAN
METHOD:PUBLISH
X-WR-CALNAME:DJPJ
X-ORIGINAL-URL:https://www.djpj.nl
X-WR-CALDESC:Events for DJPJ
BEGIN:VTIMEZONE
TZID:UTC
BEGIN:STANDARD
TZOFFSETFROM:+0000
TZOFFSETTO:+0000
TZNAME:UTC
DTSTART:20220101T000000
END:STANDARD
END:VTIMEZONE
BEGIN:VEVENT
DTSTART;VALUE=DATE:20220424
DTEND;VALUE=DATE:20220426
DTSTAMP:20260420T213857
CREATED:20220407T160453Z
LAST-MODIFIED:20220407T160453Z
UID:5261-1650780000-1650866399@www.djpj.nl
SUMMARY:TD Scoop 2022
DESCRIPTION:Hockey is mooi! \nMaar er moet ook gefeest worden!! \nOnder andere met DJPJ!!! \nAlleen toegankelijk voor leden van Scoop en genodigden.
URL:https://www.djpj.nl/event/tdscoop-2022/
LOCATION:Delft\, Delft\, Netherlands
CATEGORIES:Student Party
ATTACH;FMTTYPE=image/jpeg:https://www.djpj.nl/wp-content/uploads/2022/04/DJPJ_TDScoop_2022.jpg
END:VEVENT
END:VCALENDAR