BEGIN:VCALENDAR
VERSION:2.0
PRODID:-//DJPJ - ECPv5.3.2.1//NONSGML v1.0//EN
CALSCALE:GREGORIAN
METHOD:PUBLISH
X-WR-CALNAME:DJPJ
X-ORIGINAL-URL:https://www.djpj.nl
X-WR-CALDESC:Events for DJPJ
BEGIN:VTIMEZONE
TZID:UTC
BEGIN:STANDARD
TZOFFSETFROM:+0000
TZOFFSETTO:+0000
TZNAME:UTC
DTSTART:20230101T000000
END:STANDARD
END:VTIMEZONE
BEGIN:VEVENT
DTSTART;VALUE=DATE:20230512
DTEND;VALUE=DATE:20230514
DTSTAMP:20260420T211133
CREATED:20230511T154329Z
LAST-MODIFIED:20230511T154329Z
UID:6259-1683871200-1683957599@www.djpj.nl
SUMMARY:Tyche Dies Slotfeest 2023
DESCRIPTION:De sociëteit is jarig en dat wordt gevierd met een groot feest!! \nMet dit jaar onder andere DJPJ!! \nAlleen toegankelijk voor leden van DSB en genodigden.
URL:https://www.djpj.nl/event/tyche-dies-slotfeest-2023/
LOCATION:DSB\, Oude Delft 123\, Delft\, 2611BE\, Netherlands
CATEGORIES:Student Party
ATTACH;FMTTYPE=image/jpeg:https://www.djpj.nl/wp-content/uploads/2023/05/DJPJ_DSB02.jpg
END:VEVENT
END:VCALENDAR