BEGIN:VCALENDAR
VERSION:2.0
PRODID:-//DJPJ - ECPv5.3.2.1//NONSGML v1.0//EN
CALSCALE:GREGORIAN
METHOD:PUBLISH
X-WR-CALNAME:DJPJ
X-ORIGINAL-URL:https://www.djpj.nl
X-WR-CALDESC:Events for DJPJ
BEGIN:VTIMEZONE
TZID:UTC
BEGIN:STANDARD
TZOFFSETFROM:+0000
TZOFFSETTO:+0000
TZNAME:UTC
DTSTART:20190101T000000
END:STANDARD
END:VTIMEZONE
BEGIN:VEVENT
DTSTART;TZID=UTC:20190502T210000
DTEND;TZID=UTC:20190503T050000
DTSTAMP:20260421T032134
CREATED:20190503T135204Z
LAST-MODIFIED:20190503T135204Z
UID:4069-1556830800-1556859600@www.djpj.nl
SUMMARY:Tyche Dies 2019
DESCRIPTION:66 jaar geleden\, op 20 april 1953\, werd sociëteit Tyche eindelijk eigendom van de Delftsche Studenten Bond. Sindsdien zijn er talloze feesten en andere evenementen hier georganiseerd. Zo ook nu! Op 2 mei wordt weer groots uitgepakt! Ga helemaal los op onze eigen Adamo en DJaan\, laat het dak eraf vliegen samen met DJ Matsoe Matsoe en Averso\, en dans de vroege uurtjes door met DJ PJ! En mocht je jezelf helemaal kapot hebben gefeest\, dan is gelukkig daar Kobi’s Grill in ons pand om even wat uit te rusten en lekker wat te eten\, zodat je er weer volop tegenaan kan! \nKortom\, samen met jou wordt het een onvergetelijk feest\, ter ere van de 66e Dies van ons pand!\nLet us bring you to Valhalla! \nAlleen toegankelijk met collegekaart.
URL:https://www.djpj.nl/event/tychedies2019/
LOCATION:DSB\, Oude Delft 123\, Delft\, 2611BE\, Netherlands
CATEGORIES:Student Party
ATTACH;FMTTYPE=image/jpeg:https://www.djpj.nl/wp-content/uploads/2019/05/DJPJ_TycheDies_2019.jpg
END:VEVENT
END:VCALENDAR