BEGIN:VCALENDAR
VERSION:2.0
PRODID:-//DJPJ - ECPv5.3.2.1//NONSGML v1.0//EN
CALSCALE:GREGORIAN
METHOD:PUBLISH
X-WR-CALNAME:DJPJ
X-ORIGINAL-URL:https://www.djpj.nl
X-WR-CALDESC:Events for DJPJ
BEGIN:VTIMEZONE
TZID:UTC
BEGIN:STANDARD
TZOFFSETFROM:+0000
TZOFFSETTO:+0000
TZNAME:UTC
DTSTART:20210101T000000
END:STANDARD
END:VTIMEZONE
BEGIN:VEVENT
DTSTART;TZID=UTC:20210626T215000
DTEND;TZID=UTC:20210627T050000
DTSTAMP:20260422T003139
CREATED:20210626T151702Z
LAST-MODIFIED:20210626T151702Z
UID:4961-1624744200-1624770000@www.djpj.nl
SUMMARY:Virgiel OpeningsDixo
DESCRIPTION:Na bijna anderhalf jaar afwezigheid is de AkCie weer terug om de mooiste feestjes voor jullie neer te zetten! Om te beginnen met de OpeningsDixo!! \nVanavond met DJPJ!!! \nAlleen toegankelijk voor leden van Virgiel en genodigden.
URL:https://www.djpj.nl/event/virgiel-openingsdixo/
LOCATION:Virgiel\, Oude Delft 57\, Delft\, 2611BC\, Netherlands
CATEGORIES:Student Party
ATTACH;FMTTYPE=image/jpeg:https://www.djpj.nl/wp-content/uploads/2021/06/DJPJ_Virgiel.jpg
END:VEVENT
END:VCALENDAR