BEGIN:VCALENDAR
VERSION:2.0
PRODID:-//DJPJ - ECPv5.3.2.1//NONSGML v1.0//EN
CALSCALE:GREGORIAN
METHOD:PUBLISH
X-WR-CALNAME:DJPJ
X-ORIGINAL-URL:https://www.djpj.nl
X-WR-CALDESC:Events for DJPJ
BEGIN:VTIMEZONE
TZID:UTC
BEGIN:STANDARD
TZOFFSETFROM:+0000
TZOFFSETTO:+0000
TZNAME:UTC
DTSTART:20180101T000000
END:STANDARD
END:VTIMEZONE
BEGIN:VEVENT
DTSTART;TZID=UTC:20181109T215000
DTEND;TZID=UTC:20181110T050000
DTSTAMP:20260421T005118
CREATED:20181101T113032Z
LAST-MODIFIED:20181101T113032Z
UID:3649-1541800200-1541826000@www.djpj.nl
SUMMARY:Virgiel VakkenDixo
DESCRIPTION:Na een jaar afwezigheid is de AkCie weer terug om de mooiste feestjes voor jullie neer te zetten! Om te beginnen met Vakkendixo 1! Dit betekent natuurlijk dat je op de laatste vrijdag van de periode alle tentamenstress van je af kan drinken/dansen. Klus met je club de mooiste outfit en win een mooie prijs! \nVanavond met DJPJ!!! \nAlleen toegankelijk voor leden van Virgiel en genodigden.
URL:https://www.djpj.nl/event/virgiel-vakkendixo/
LOCATION:Virgiel\, Oude Delft 57\, Delft\, 2611BC\, Netherlands
CATEGORIES:Student Party
ATTACH;FMTTYPE=image/jpeg:https://www.djpj.nl/wp-content/uploads/2018/11/DJPJ_VirgielVakkenDixo_Nov2018.jpg
END:VEVENT
END:VCALENDAR