BEGIN:VCALENDAR
VERSION:2.0
PRODID:-//DJPJ - ECPv5.3.2.1//NONSGML v1.0//EN
CALSCALE:GREGORIAN
METHOD:PUBLISH
X-WR-CALNAME:DJPJ
X-ORIGINAL-URL:https://www.djpj.nl
X-WR-CALDESC:Events for DJPJ
BEGIN:VTIMEZONE
TZID:UTC
BEGIN:STANDARD
TZOFFSETFROM:+0000
TZOFFSETTO:+0000
TZNAME:UTC
DTSTART:20260101T000000
END:STANDARD
END:VTIMEZONE
BEGIN:VEVENT
DTSTART;VALUE=DATE:20260220
DTEND;VALUE=DATE:20260222
DTSTAMP:20260420T195232
CREATED:20260217T160748Z
LAST-MODIFIED:20260217T163531Z
UID:7866-1771567200-1771653599@www.djpj.nl
SUMMARY:Voor Goud & Glorie Afterparty
DESCRIPTION:Hit Hard\, Dance Harder! \nEn ook met DJPJ!!! \nAlleen toegankelijk met Studentenkaart.
URL:https://www.djpj.nl/event/voorgoudglorie-2026/
LOCATION:De Gietijzer\, Gietijzerstraat 3\, Utrecht\, 3534AV
CATEGORIES:Student Party
ATTACH;FMTTYPE=image/jpeg:https://www.djpj.nl/wp-content/uploads/2026/02/DJPJ_LAGA_VoorGoudGlorie_2026.jpg
END:VEVENT
END:VCALENDAR