BEGIN:VCALENDAR
VERSION:2.0
PRODID:-//DJPJ - ECPv5.3.2.1//NONSGML v1.0//EN
CALSCALE:GREGORIAN
METHOD:PUBLISH
X-WR-CALNAME:DJPJ
X-ORIGINAL-URL:https://www.djpj.nl
X-WR-CALDESC:Events for DJPJ
BEGIN:VTIMEZONE
TZID:UTC
BEGIN:STANDARD
TZOFFSETFROM:+0000
TZOFFSETTO:+0000
TZNAME:UTC
DTSTART:20220101T000000
END:STANDARD
END:VTIMEZONE
BEGIN:VEVENT
DTSTART;VALUE=DATE:20220321
DTEND;VALUE=DATE:20220323
DTSTAMP:20260421T084101
CREATED:20220317T181518Z
LAST-MODIFIED:20220317T181837Z
UID:5193-1647842400-1647928799@www.djpj.nl
SUMMARY:VSV ZodiAkCie Feest 2022
DESCRIPTION:We vlogen met een zucht naar een feestje!!!\nEn deze editie met DJPJ!! \nAlleen toegankelijk met studentenkaart.
URL:https://www.djpj.nl/event/vsvzodiakciefeest-2022/
LOCATION:Bierfabriek\, Burgwal 45\, Delft\, 2611GG\, Netherlands
CATEGORIES:Student Party
ATTACH;FMTTYPE=image/jpeg:https://www.djpj.nl/wp-content/uploads/2022/03/DJPJ_VSV_ZodiAkCieFeest_2022.jpg
END:VEVENT
END:VCALENDAR