BEGIN:VCALENDAR
VERSION:2.0
PRODID:-//DJPJ - ECPv5.3.2.1//NONSGML v1.0//EN
CALSCALE:GREGORIAN
METHOD:PUBLISH
X-WR-CALNAME:DJPJ
X-ORIGINAL-URL:https://www.djpj.nl
X-WR-CALDESC:Events for DJPJ
BEGIN:VTIMEZONE
TZID:UTC
BEGIN:STANDARD
TZOFFSETFROM:+0000
TZOFFSETTO:+0000
TZNAME:UTC
DTSTART:20230101T000000
END:STANDARD
END:VTIMEZONE
BEGIN:VEVENT
DTSTART;VALUE=DATE:20230301
DTEND;VALUE=DATE:20230303
DTSTAMP:20260421T160151
CREATED:20230317T105717Z
LAST-MODIFIED:20230317T105717Z
UID:6057-1677650400-1677736799@www.djpj.nl
SUMMARY:Winter ElCid Feest 2023
DESCRIPTION:Woensdag 1 maart is de aftrap van het EL CID-seizoen: het Winter EL CID-feest (WEF) komt eraan! Kom gezellig met al jouw vrienden\, huisgenoten\, of misschien je hele dispuut en feest de hele nacht lang in De Nobel onder het thema ‘Black-out Leiden’. \nEn vanavond met DJPJ!!! \nAlleen toegankelijk met Studentenkaart.
URL:https://www.djpj.nl/event/winter-elcid-feest-2023/
LOCATION:De Nobel\, Marktsteeg 8\, Leiden\, 2312CS\, Netherlands
CATEGORIES:Student Party
ATTACH;FMTTYPE=image/jpeg:https://www.djpj.nl/wp-content/uploads/2023/03/DJPJ_WinterElCidFeest_2023.jpg
END:VEVENT
END:VCALENDAR