BEGIN:VCALENDAR
VERSION:2.0
PRODID:-//DJPJ - ECPv5.3.2.1//NONSGML v1.0//EN
CALSCALE:GREGORIAN
METHOD:PUBLISH
X-WR-CALNAME:DJPJ
X-ORIGINAL-URL:https://www.djpj.nl
X-WR-CALDESC:Events for DJPJ
BEGIN:VTIMEZONE
TZID:UTC
BEGIN:STANDARD
TZOFFSETFROM:+0000
TZOFFSETTO:+0000
TZNAME:UTC
DTSTART:20240101T000000
END:STANDARD
END:VTIMEZONE
BEGIN:VEVENT
DTSTART;VALUE=DATE:20240621
DTEND;VALUE=DATE:20240623
DTSTAMP:20260422T083544
CREATED:20240613T195833Z
LAST-MODIFIED:20240613T195833Z
UID:6883-1718949600-1719035999@www.djpj.nl
SUMMARY:Zomeravond Competitie 2024
DESCRIPTION:Zomer Avond Competitie (ZAC) Hockeytoernooi GroenGeel\n\nHet allermooiste hockeytoernooi op H.C.C. Groen-Geel voor ervaren én onervaren spelers. Dit jaar op 15\, 21\, 28 juni\, 5 & 12 juli!\no.a. met DJPJ!! \nAlleen toegankelijk voor Zomeravond Competitie deelnemers en genodigden.
URL:https://www.djpj.nl/event/zomeravond-competitie-2024/
LOCATION:HCC Groen-Geel\, Buurtweg 122\, Wassenaar\, 2244AJ
CATEGORIES:Party
ATTACH;FMTTYPE=image/jpeg:https://www.djpj.nl/wp-content/uploads/2024/06/DJPJ_ZACGG_2024.jpg
END:VEVENT
END:VCALENDAR