BEGIN:VCALENDAR
VERSION:2.0
PRODID:-//DJPJ - ECPv5.3.2.1//NONSGML v1.0//EN
CALSCALE:GREGORIAN
METHOD:PUBLISH
X-WR-CALNAME:DJPJ
X-ORIGINAL-URL:https://www.djpj.nl
X-WR-CALDESC:Events for DJPJ
BEGIN:VTIMEZONE
TZID:UTC
BEGIN:STANDARD
TZOFFSETFROM:+0000
TZOFFSETTO:+0000
TZNAME:UTC
DTSTART:20250101T000000
END:STANDARD
END:VTIMEZONE
BEGIN:VEVENT
DTSTART;VALUE=DATE:20250628
DTEND;VALUE=DATE:20250630
DTSTAMP:20260422T085214
CREATED:20250603T184247Z
LAST-MODIFIED:20250603T184247Z
UID:7537-1751090400-1751176799@www.djpj.nl
SUMMARY:Zomeravond Competitie 2025
DESCRIPTION:Zomer Avond Competitie (ZAC) Hockeytoernooi GroenGeel\n\nHet allermooiste hockeytoernooi op H.C.C. Groen-Geel voor ervaren én onervaren spelers.\no.a. met DJPJ!! \nAlleen toegankelijk voor Zomeravond Competitie deelnemers en genodigden.
URL:https://www.djpj.nl/event/zomeravond-competitie-2025/
LOCATION:HCC Groen-Geel\, Buurtweg 122\, Wassenaar\, 2244AJ
CATEGORIES:Party
ATTACH;FMTTYPE=image/jpeg:https://www.djpj.nl/wp-content/uploads/2025/06/DJPJ_ZAC_2025.jpg
END:VEVENT
END:VCALENDAR