BEGIN:VCALENDAR
VERSION:2.0
PRODID:-//DJPJ - ECPv5.3.2.1//NONSGML v1.0//EN
CALSCALE:GREGORIAN
METHOD:PUBLISH
X-WR-CALNAME:DJPJ
X-ORIGINAL-URL:https://www.djpj.nl
X-WR-CALDESC:Events for DJPJ
BEGIN:VTIMEZONE
TZID:UTC
BEGIN:STANDARD
TZOFFSETFROM:+0000
TZOFFSETTO:+0000
TZNAME:UTC
DTSTART:20220101T000000
END:STANDARD
END:VTIMEZONE
BEGIN:VEVENT
DTSTART;VALUE=DATE:20220610
DTEND;VALUE=DATE:20220612
DTSTAMP:20260420T172221
CREATED:20220601T104048Z
LAST-MODIFIED:20220601T104122Z
UID:5453-1654840800-1654927199@www.djpj.nl
SUMMARY:Zomeravond Hockey 2022
DESCRIPTION:De zomer van 2022 wordt een speciale zomer! \nMAKE ZAH GREAT AGAIN. \nNa 2 afgelaste edities kunnen we dit jaar weer genieten van een van de leukste evenementen van HC Rotterdam. \nDe ZAH is ooit geboren als een klein en gezellig hockey toernooi voor intimi\, en nu uitgegroeid tot een waar fenomeen in Rotterdam. Vanuit alle hoeken en gaten begeven Rotterdammers en niet Rotterdammers zich in de zomer maanden (juni & juli) zich naar HC Rotterdam\, om daar een legendarische avond vol met hockey te beleven. \nIedere avond zal worden afgesloten met een spetterend feest! Dit jaar zal Zomeravondhockey plaats vinden op 2 vrijdagavonden en 2 zaterdagavonden namelijk 10 juni\, 24 juni\, 2 juli en 9 juli 2022. Elke avond worden er twee hockeywedstrijden van een half uur gespeeld. Vervolgens zal het feest losbarsten en zullen wij dansen en sjansen tot in de late uurtjes. \nDeze editie zullen we langs alle staten van de zomeravondhockey gaan en we will make ZAH great again! o.a. met DJPJ!! \nAlleen toegankelijk voor Zomeravond Hockey deelnemers en genodigden.
URL:https://www.djpj.nl/event/zomeravond-hockey2022/
LOCATION:HCR\, Hazelaarweg 2\, Rotterdam\, 3053PM\, Netherlands
CATEGORIES:Party
ATTACH;FMTTYPE=image/jpeg:https://www.djpj.nl/wp-content/uploads/2022/06/DJPJ_ZAH_2022.jpg
END:VEVENT
END:VCALENDAR