BEGIN:VCALENDAR
VERSION:2.0
PRODID:-//DJPJ - ECPv5.3.2.1//NONSGML v1.0//EN
CALSCALE:GREGORIAN
METHOD:PUBLISH
X-WR-CALNAME:DJPJ
X-ORIGINAL-URL:https://www.djpj.nl
X-WR-CALDESC:Events for DJPJ
BEGIN:VTIMEZONE
TZID:UTC
BEGIN:STANDARD
TZOFFSETFROM:+0000
TZOFFSETTO:+0000
TZNAME:UTC
DTSTART:20190101T000000
END:STANDARD
END:VTIMEZONE
BEGIN:VEVENT
DTSTART;TZID=UTC:20190614T190000
DTEND;TZID=UTC:20190615T020000
DTSTAMP:20260420T171458
CREATED:20190531T125634Z
LAST-MODIFIED:20190531T130146Z
UID:4183-1560538800-1560564000@www.djpj.nl
SUMMARY:Zomeravond Hockey
DESCRIPTION:De zomer van 2019 wordt een speciale zomer! Zomeravond Hockey bestaat vijftien jaar en dat gaan we vieren. \nHet thema van deze jubileumeditie is: ZAH World Tour. Wij maken met elkaar een reis langs de continenten\, onderzoeken en ervaren het hockey in andere windstreken en natuurlijk kijken wij hoe op andere continenten een (hockey)feestje wordt gevierd. \nTijdens onze wereldreis pikken wij wat op van andere culturen en culinaire hoogstandjes. Natuurlijk staat hockey voorop. Zo wordt de wereldreis van Zomeravondhockey een groot landentoernooi. \nEn na afloop van de wedstrijden is het feest\, o.a. met DJPJ!! \nAlleen toegankelijk voor Zomeravond Hockey deelnemers en genodigden.
URL:https://www.djpj.nl/event/zomeravondhockey-2/
LOCATION:HCR\, Hazelaarweg 2\, Rotterdam\, 3053PM\, Netherlands
CATEGORIES:Party
ATTACH;FMTTYPE=image/jpeg:https://www.djpj.nl/wp-content/uploads/2019/05/DJPJ_ZAH_2019.jpg
END:VEVENT
END:VCALENDAR